BEGIN:VCALENDAR
VERSION:2.0
PRODID:-//wp-events-plugin.com//7.2.3.1//EN
TZID:Europe/Stockholm
X-WR-TIMEZONE:Europe/Stockholm
BEGIN:VEVENT
UID:323@sanktbernadette.se
DTSTART:20240303T073000Z
DTEND:20240303T080000Z
DTSTAMP:20240110T135025Z
URL:https://sanktbernadette.se/kalender/trosundervisning-vuxna-2024-03-03/
SUMMARY:Föräldraträff
DESCRIPTION:
CATEGORIES:Trosundervisning
LOCATION:Rönnekyrkan\, Skolgatan 33\, Ängelholm\, Skåne\, 262 31\, Skån
 e\, Sverige
GEO:56.24508;12.872347
X-APPLE-STRUCTURED-LOCATION;VALUE=URI;X-ADDRESS=Skolgatan 33\, Ängelholm\,
  Skåne\, 262 31\, Skåne\, Sverige;X-APPLE-RADIUS=100;X-TITLE=Rönnekyrka
 n:geo:56.24508,12.872347
END:VEVENT
END:VCALENDAR