BEGIN:VCALENDAR
VERSION:2.0
PRODID:-//wp-events-plugin.com//7.2.3.1//EN
TZID:Europe/Stockholm
X-WR-TIMEZONE:Europe/Stockholm
BEGIN:VEVENT
UID:165@sanktbernadette.se
DTSTART:20230430T083000Z
DTEND:20230430T090000Z
DTSTAMP:20230320T112523Z
URL:https://sanktbernadette.se/kalender/troslara-med-fabian-daphne-konfirm
 and-undervisning-med-stefan-claudia-2/
SUMMARY:TROSLÄRA med Fabian/Daphné  Konfirmand-undervisning med Stefan/Cl
 audia
DESCRIPTION:
CATEGORIES:Trosundervisning
LOCATION:Rönnekyrkan\, Skolgatan 33\, Ängelholm\, Skåne\, 262 31\, Skån
 e\, Sverige
GEO:56.24508;12.872347
X-APPLE-STRUCTURED-LOCATION;VALUE=URI;X-ADDRESS=Skolgatan 33\, Ängelholm\,
  Skåne\, 262 31\, Skåne\, Sverige;X-APPLE-RADIUS=100;X-TITLE=Rönnekyrka
 n:geo:56.24508,12.872347
END:VEVENT
END:VCALENDAR