BEGIN:VCALENDAR
VERSION:2.0
PRODID:-//wp-events-plugin.com//7.2.3.1//EN
TZID:Europe/Stockholm
X-WR-TIMEZONE:Europe/Stockholm
BEGIN:VEVENT
UID:162@sanktbernadette.se
DTSTART:20230325T130000Z
DTEND:20230325T130000Z
DTSTAMP:20230320T105458Z
URL:https://sanktbernadette.se/kalender/sportsdag-for-familjen/
SUMMARY:Sportsdag för familjen
DESCRIPTION:
CATEGORIES:Övrigt
LOCATION:Åsljunghallen\, Sjökaptensvägen\, Åsljunga\, 286 72\, Sverige
X-APPLE-STRUCTURED-LOCATION;VALUE=URI;X-ADDRESS=Sjökaptensvägen\, Åsljun
 ga\, 286 72\, Sverige;X-APPLE-RADIUS=100;X-TITLE=Åsljunghallen:geo:0,0
END:VEVENT
END:VCALENDAR