BEGIN:VCALENDAR
VERSION:2.0
PRODID:-//wp-events-plugin.com//7.2.3.1//EN
TZID:Europe/Stockholm
X-WR-TIMEZONE:Europe/Stockholm
BEGIN:VEVENT
UID:246@sanktbernadette.se
DTSTART:20231105T093000Z
DTEND:20231105T094500Z
DTSTAMP:20231004T130756Z
URL:https://sanktbernadette.se/kalender/sanggrupp-efter-massan-2023-11-05/
SUMMARY:Sånggrupp efter mässan
DESCRIPTION:Sånggrupp direkt efter mässan.\n\nVi håller på 7-10 minuter
  och sjunger mycket blandat...klassiska barnsånger och lite nyskrivet med
  kristen text...\n\nVi är ett glatt sångargäng som tar emot flera barn 
 i 3-4-års åldern och uppåt...\n\nVarmt välkomna!\n\n&nbsp\;\n\nRenate 
 - Monica
CATEGORIES:Trosundervisning
LOCATION:Rönnekyrkan\, Skolgatan 33\, Ängelholm\, Skåne\, 262 31\, Skån
 e\, Sverige
GEO:56.24508;12.872347
X-APPLE-STRUCTURED-LOCATION;VALUE=URI;X-ADDRESS=Skolgatan 33\, Ängelholm\,
  Skåne\, 262 31\, Skåne\, Sverige;X-APPLE-RADIUS=100;X-TITLE=Rönnekyrka
 n:geo:56.24508,12.872347
END:VEVENT
END:VCALENDAR