BEGIN:VCALENDAR
VERSION:2.0
PRODID:-//wp-events-plugin.com//7.2.3.1//EN
TZID:Europe/Stockholm
X-WR-TIMEZONE:Europe/Stockholm
BEGIN:VEVENT
UID:328@sanktbernadette.se
DTSTART:20240202T160000Z
DTEND:20240203T040000Z
DTSTAMP:20240125T160006Z
URL:https://sanktbernadette.se/kalender/sakramental-tillbedjan-8/
SUMMARY:Sakramental Tillbedjan
DESCRIPTION:18:00 - Mässa\n\n[CP_APP_HOUR_BOOKING id="3"]\n\n&nbsp\;
ATTACH;FMTTYPE=image/jpeg:https://sanktbernadette.se/wp-content/uploads/20
 23/02/monstrance-religion-silversmith-1865983.jpg
CATEGORIES:Tillbedjan
LOCATION:Rönnekyrkan\, Skolgatan 33\, Ängelholm\, Skåne\, 262 31\, Skån
 e\, Sverige
GEO:56.24508;12.872347
X-APPLE-STRUCTURED-LOCATION;VALUE=URI;X-ADDRESS=Skolgatan 33\, Ängelholm\,
  Skåne\, 262 31\, Skåne\, Sverige;X-APPLE-RADIUS=100;X-TITLE=Rönnekyrka
 n:geo:56.24508,12.872347
END:VEVENT
END:VCALENDAR