BEGIN:VCALENDAR
VERSION:2.0
PRODID:-//wp-events-plugin.com//7.2.3.1//EN
TZID:Europe/Stockholm
X-WR-TIMEZONE:Europe/Stockholm
BEGIN:VEVENT
UID:571@sanktbernadette.se
DTSTART;TZID=Europe/Stockholm:20260501T180000
DTEND;TZID=Europe/Stockholm:20260502T060000
DTSTAMP:20260413T074205Z
URL:https://sanktbernadette.se/kalender/sakramental-tillbedjan-30/
SUMMARY:Sakramental Tillbedjan
DESCRIPTION:Sakramental tillbedjan\n\nAnmälan sker vid församlingens ansl
 agstavla i Rönnekyrkan\n\nMässa 1 - 18:00\n\nFöljt av tillbedjan under 
 hela kvällen/natten\n\nMässa 2 - 06:00
CATEGORIES:Tillbedjan
LOCATION:Rönnekyrkan\, Skolgatan 33\, Ängelholm\, Skåne\, 262 31\, Skån
 e\, Sverige
GEO:56.24508;12.872347
X-APPLE-STRUCTURED-LOCATION;VALUE=URI;X-ADDRESS=Skolgatan 33\, Ängelholm\,
  Skåne\, 262 31\, Skåne\, Sverige;X-APPLE-RADIUS=100;X-TITLE=Rönnekyrka
 n:geo:56.24508,12.872347
END:VEVENT
BEGIN:VTIMEZONE
TZID:Europe/Stockholm
X-LIC-LOCATION:Europe/Stockholm
BEGIN:DAYLIGHT
DTSTART:20260329T030000
TZOFFSETFROM:+0100
TZOFFSETTO:+0200
TZNAME:CEST
END:DAYLIGHT
END:VTIMEZONE
END:VCALENDAR