BEGIN:VCALENDAR
VERSION:2.0
PRODID:-//wp-events-plugin.com//7.2.3.1//EN
TZID:Europe/Stockholm
X-WR-TIMEZONE:Europe/Stockholm
BEGIN:VEVENT
UID:125@sanktbernadette.se
DTSTART;TZID=Europe/Stockholm:20230303T180000
DTEND;TZID=Europe/Stockholm:20230304T060000
DTSTAMP:20230208T074440Z
URL:https://sanktbernadette.se/kalender/sakramental-tillbedjan-2/
SUMMARY:Sakramental tillbedjan
DESCRIPTION:[CP_APP_HOUR_BOOKING id="1"]
CATEGORIES:Tillbedjan
END:VEVENT
BEGIN:VTIMEZONE
TZID:Europe/Stockholm
X-LIC-LOCATION:Europe/Stockholm
BEGIN:STANDARD
DTSTART:20221030T020000
TZOFFSETFROM:+0200
TZOFFSETTO:+0100
TZNAME:CET
END:STANDARD
END:VTIMEZONE
END:VCALENDAR