BEGIN:VCALENDAR
VERSION:2.0
PRODID:-//wp-events-plugin.com//7.2.3.1//EN
TZID:Europe/Stockholm
X-WR-TIMEZONE:Europe/Stockholm
BEGIN:VEVENT
UID:122@sanktbernadette.se
DTSTART;TZID=Europe/Stockholm;VALUE=DATE:20230215
DTEND;TZID=Europe/Stockholm;VALUE=DATE:20230216
DTSTAMP:20230208T073121Z
URL:https://sanktbernadette.se/kalender/s-sigfrid-av-vaxjo/
SUMMARY:S. Sigfrid av Växjö
DESCRIPTION:
CATEGORIES:Minnesdag
END:VEVENT
BEGIN:VTIMEZONE
TZID:Europe/Stockholm
X-LIC-LOCATION:Europe/Stockholm
BEGIN:STANDARD
DTSTART:20221030T020000
TZOFFSETFROM:+0200
TZOFFSETTO:+0100
TZNAME:CET
END:STANDARD
END:VTIMEZONE
END:VCALENDAR