BEGIN:VCALENDAR
VERSION:2.0
PRODID:-//wp-events-plugin.com//7.2.3.1//EN
TZID:Europe/Stockholm
X-WR-TIMEZONE:Europe/Stockholm
BEGIN:VEVENT
UID:136@sanktbernadette.se
DTSTART;TZID=Europe/Stockholm;VALUE=DATE:20230320
DTEND;TZID=Europe/Stockholm;VALUE=DATE:20230321
DTSTAMP:20230208T080140Z
URL:https://sanktbernadette.se/kalender/s-josef-jungfru-marias-brudgum/
SUMMARY:S. Josef\, Jungfru Marias Brudgum
DESCRIPTION:
CATEGORIES:Högtid
END:VEVENT
BEGIN:VTIMEZONE
TZID:Europe/Stockholm
X-LIC-LOCATION:Europe/Stockholm
BEGIN:STANDARD
DTSTART:20221030T020000
TZOFFSETFROM:+0200
TZOFFSETTO:+0100
TZNAME:CET
END:STANDARD
END:VTIMEZONE
END:VCALENDAR