BEGIN:VCALENDAR
VERSION:2.0
PRODID:-//wp-events-plugin.com//7.2.3.1//EN
TZID:Europe/Stockholm
X-WR-TIMEZONE:Europe/Stockholm
BEGIN:VEVENT
UID:234@sanktbernadette.se
DTSTART:20231210T080000Z
DTEND:20231210T083000Z
DTSTAMP:20230918T074226Z
URL:https://sanktbernadette.se/kalender/rosenkransen-2023-12-10/
SUMMARY:Rosenkransen
DESCRIPTION:
CATEGORIES:Rosenkransen
LOCATION:Rönnekyrkan\, Skolgatan 33\, Ängelholm\, Skåne\, 262 31\, Skån
 e\, Sverige
GEO:56.24508;12.872347
X-APPLE-STRUCTURED-LOCATION;VALUE=URI;X-ADDRESS=Skolgatan 33\, Ängelholm\,
  Skåne\, 262 31\, Skåne\, Sverige;X-APPLE-RADIUS=100;X-TITLE=Rönnekyrka
 n:geo:56.24508,12.872347
END:VEVENT
END:VCALENDAR