BEGIN:VCALENDAR
VERSION:2.0
PRODID:-//wp-events-plugin.com//7.2.3.1//EN
TZID:Europe/Stockholm
X-WR-TIMEZONE:Europe/Stockholm
BEGIN:VEVENT
UID:143@sanktbernadette.se
DTSTART;TZID=Europe/Stockholm:20230408T210000
DTEND;TZID=Europe/Stockholm:20230408T220000
DTSTAMP:20230320T111746Z
URL:https://sanktbernadette.se/kalender/paskafton/
SUMMARY:Påskafton - Mässa
DESCRIPTION:Påskvakan under den heliga natten till påskdagen
CATEGORIES:Högtid
END:VEVENT
BEGIN:VTIMEZONE
TZID:Europe/Stockholm
X-LIC-LOCATION:Europe/Stockholm
BEGIN:DAYLIGHT
DTSTART:20230326T030000
TZOFFSETFROM:+0100
TZOFFSETTO:+0200
TZNAME:CEST
END:DAYLIGHT
END:VTIMEZONE
END:VCALENDAR