BEGIN:VCALENDAR
VERSION:2.0
PRODID:-//wp-events-plugin.com//7.2.3.1//EN
TZID:Europe/Stockholm
X-WR-TIMEZONE:Europe/Stockholm
BEGIN:VEVENT
UID:567@sanktbernadette.se
DTSTART;TZID=Europe/Stockholm:20260403T150000
DTEND;TZID=Europe/Stockholm:20260404T060000
DTSTAMP:20260323T143704Z
URL:https://sanktbernadette.se/kalender/massa-langfredag/
SUMMARY:Mässa - Långfredag + Sakramental tillbedjan
DESCRIPTION:Mässa\n\n15:00 - 16:00\n\nSakramental tillbedjan - anmälan sk
 er via församlingen anslagstavla\n\n16:00 - 06:00\n\n[CP_APP_HOUR_BOOKING
  id="1"]\n\n&nbsp\;\n\n&nbsp\;
ATTACH;FMTTYPE=image/jpeg:https://sanktbernadette.se/wp-content/uploads/20
 26/03/john-18-1-19-reflection-hans-memling.jpeg-scaled.webp
CATEGORIES:Högtid,Tillbedjan
LOCATION:Rönnekyrkan\, Skolgatan 33\, Ängelholm\, Skåne\, 262 31\, Skån
 e\, Sverige
GEO:56.24508;12.872347
X-APPLE-STRUCTURED-LOCATION;VALUE=URI;X-ADDRESS=Skolgatan 33\, Ängelholm\,
  Skåne\, 262 31\, Skåne\, Sverige;X-APPLE-RADIUS=100;X-TITLE=Rönnekyrka
 n:geo:56.24508,12.872347
END:VEVENT
BEGIN:VTIMEZONE
TZID:Europe/Stockholm
X-LIC-LOCATION:Europe/Stockholm
BEGIN:DAYLIGHT
DTSTART:20260329T030000
TZOFFSETFROM:+0100
TZOFFSETTO:+0200
TZNAME:CEST
END:DAYLIGHT
END:VTIMEZONE
END:VCALENDAR