BEGIN:VCALENDAR
VERSION:2.0
PRODID:-//wp-events-plugin.com//7.2.3.1//EN
TZID:Europe/Stockholm
X-WR-TIMEZONE:Europe/Stockholm
BEGIN:VEVENT
UID:329@sanktbernadette.se
DTSTART:20240224T160000Z
DTEND:20240224T173000Z
DTSTAMP:20240222T153545Z
URL:https://sanktbernadette.se/kalender/massa-asljunga-smakyrka-3/
SUMMARY:Mässa - Åsljunga Småkyrka
DESCRIPTION:Mässa - 18:00\n\n&nbsp\;\n\n&nbsp\;
ATTACH;FMTTYPE=image/jpeg:https://sanktbernadette.se/wp-content/uploads/20
 23/12/Asljunga-Smakyrka.png
CATEGORIES:Högtid
LOCATION:Åsljunga Småkyrka\, Norra Sonnarpsvägen 5\, Åsljunga\, Skåne\
 , 286 72\, Sverige
X-APPLE-STRUCTURED-LOCATION;VALUE=URI;X-ADDRESS=Norra Sonnarpsvägen 5\, Å
 sljunga\, Skåne\, 286 72\, Sverige;X-APPLE-RADIUS=100;X-TITLE=Åsljunga S
 måkyrka:geo:0,0
END:VEVENT
END:VCALENDAR