BEGIN:VCALENDAR
VERSION:2.0
PRODID:-//wp-events-plugin.com//7.2.3.1//EN
TZID:Europe/Stockholm
X-WR-TIMEZONE:Europe/Stockholm
BEGIN:VEVENT
UID:332@sanktbernadette.se
DTSTART;TZID=Europe/Stockholm:20240214T173000
DTEND;TZID=Europe/Stockholm:20240214T203000
DTSTAMP:20240211T132626Z
URL:https://sanktbernadette.se/kalender/massa-askonsdagen/
SUMMARY:Mässa - Askonsdagen
DESCRIPTION:Mässa\n\nPå askonsdagen och långfredagen är de troende för
 pliktade till fasta och abstinens.\n\nFastebudet gäller alla vuxna tills 
 de fyllt 60 år\, abstinensen – budet att avstå från kött – alla so
 m har fyllt 14 år.\n\n&nbsp\;\n\nOBS! Platsen är Kapellet på Rönnegata
 n 1\n\n&nbsp\;\n\nMässa 1: 17:30\n\n&nbsp\;\n\nMässa 2: 19:00\n\n&nbsp\;
 \n\n&nbsp\;\n\n&nbsp\;
CATEGORIES:Högtid
LOCATION:Kapellet\, Rönnegatan 1\, Ängelholm\, Skåne\, Sverige
GEO:56.244478;12.863309
X-APPLE-STRUCTURED-LOCATION;VALUE=URI;X-ADDRESS=Rönnegatan 1\, Ängelholm\
 , Skåne\, Sverige;X-APPLE-RADIUS=100;X-TITLE=Kapellet:geo:56.244478,12.86
 3309
END:VEVENT
BEGIN:VTIMEZONE
TZID:Europe/Stockholm
X-LIC-LOCATION:Europe/Stockholm
BEGIN:STANDARD
DTSTART:20231029T020000
TZOFFSETFROM:+0200
TZOFFSETTO:+0100
TZNAME:CET
END:STANDARD
END:VTIMEZONE
END:VCALENDAR