BEGIN:VCALENDAR
VERSION:2.0
PRODID:-//wp-events-plugin.com//7.2.3.1//EN
TZID:Europe/Stockholm
X-WR-TIMEZONE:Europe/Stockholm
BEGIN:VEVENT
UID:570@sanktbernadette.se
DTSTART;TZID=Europe/Stockholm:20260406T083000
DTEND;TZID=Europe/Stockholm:20260406T120000
DTSTAMP:20260405T144339Z
URL:https://sanktbernadette.se/kalender/massa-annandag-pask-2/
SUMMARY:Mässa - Annandag Påsk
DESCRIPTION:Mässa 1 - 8:30\n\n&nbsp\;\n\nMässa 2 - 10:30\n\n&nbsp\;\n\nAN
 NANDAG PÅSK\n\n&nbsp\;\n\nLäsning  Apg 2:14\, 22–33\n\n&nbsp\;\n\nPå
  pingstdagen tog Petrus till orda och talade till dem som var i Jerusalem:
  »Israeliter\, lyssna på mina ord: Jesus från Nasaret\, en man vars upp
 drag Gud bekräftade inför er genom att låta honom utföra kraftgärning
 ar och under och tecken mitt ibland er\, som ni själva vet\, han utlämna
 des efter Guds beslut och plan\, och ni lät laglösa spika fast och döda
  honom. Men Gud löste honom ur dödens vånda och lät honom uppstå\, ef
 tersom det inte var möjligt att döden skulle få behålla honom i sitt g
 repp. Ty David säger om honom:\n\n&nbsp\;\n\nJag har alltid haft Herren f
 ör mina ögon\,\n\n     han står vid min sida för att jag inte skal
 l vackla.\n\n     Därför fröjdar sig mitt hjärta och jublar min tu
 nga\,\n\n     ja\, än mer: min kropp skall få vila med förtröstan.
 \n\n     Ty du skall inte lämna min själ i dödsriket\n\n     el
 ler låta din helige möta förgängelsen.\n\n     Du har visat mig li
 vets vägar.\n\n     Du skall uppfylla mig med glädje\,\n\n     n
 är jag får se ditt ansikte.\n\n&nbsp\;\n\nMina bröder\, jag kan lugnt s
 äga till er att vår stamfar David är död och begraven\, hans grav finn
 s här än i dag. Nu var han ju profet och visste att Gud med ed hade lova
 t honom att sätta en ättling till honom på hans tron. Därför var det 
 Messias uppståndelse han förutsade med orden: Han lämnades inte i döds
 riket\, och hans kropp mötte inte förgängelsen. Denne\, nämligen Jesus
 \, har Gud låtit uppstå\, och vi kan alla vittna om det. Gud har upphöj
 t honom med sin högra hand\, och sedan han enligt löftet tagit emot den 
 helige Ande av Fadern\, har han nu utgjutit den\, så som ni här ser och 
 hör.«\n\n&nbsp\;\n\nResponsoriepsalm  Ps 16:1–2a\, 5\, 7–11 (R. jfr
  1a)\n\n&nbsp\;\n\nR. Bevara mig\, du min Gud eller Halleluja.\n\n&nbsp\;\
 n\nBevara mig\, Gud\,\n\nty jag tar min tillflykt till dig.\n\nJag säger 
 till Herren: ”Du är ju Herren\,\n\nför mig finns intet gott utom dig.
 ” R.\n\n&nbsp\;\n\nHerren är min andel\, min bägare\,\n\ndu håller mi
 tt öde i mina händer.\n\nJag vill lova Herren\, han ger mig råd\,\n\nä
 nnu om natten manar mig mitt innersta. R.\n\n&nbsp\;\n\nJag har alltid haf
 t Herren för mina ögon\,\n\nhan står vid min sida\, jag skall inte vack
 la.\n\nDärför fröjdar sig mitt hjärta och jublar min tunga\,\n\nja\, 
 än mer: min kropp skall vila med förtröstan. R.\n\n&nbsp\;\n\nTy lämna
 r inte min själ i dödsriket\n\noch låter inte din helige möta förgän
 gelsen.\n\nDu har visat mig livets vägar\,\n\ndu skall uppfylla mig med g
 lädje inför ditt ansikte. R\n\n&nbsp\;\n\nHalleluja Ps 118:24\n\n&nbsp\;
 \n\nV. Detta är den dag som Herren har gjort.\n\nLåt oss jubla och vara 
 glada.\n\n&nbsp\;\n\nEvangelium Matt 28:8–15\n\n&nbsp\;\n\nFyllda av bä
 van och glädje sprang kvinnorna för att berätta vad ängeln sagt för h
 ans lärjungar. Då kom Jesus emot dem och hälsade dem\, och de gick fram
 \, grep om hans fötter och hyllade honom. Men Jesus sade till dem: »Var 
 inte rädda. Gå och säg åt mina bröder att bege sig till Galileen. Dä
 r skall de få se mig.«\n\nMedan de var på väg\, kom några ur vaktstyr
 kan in till staden och berättade för översteprästerna om allt som hade
  hänt. Dessa överlade med de äldste\, och sedan gav de soldaterna en st
 or summa pengar och sade till dem: »Säg att hans lärjungar kom under na
 tten och rövade bort honom medan ni sov. Om ståthållaren får höra det
 ta\, skall vi tala med honom så att ni inte behöver oroa er.« Soldatern
 a tog pengarna och gjorde som de hade blivit tillsagda. Så vann detta ryk
 te spridning bland judarna ända till denna dag.\n\nKälla: katolskakyrkan
 .se\n\n&nbsp\;
ATTACH;FMTTYPE=image/jpeg:https://sanktbernadette.se/wp-content/uploads/20
 26/04/Apparition_de_Jesus_aux_trois_Marie_-_Laurent_de_La_Hyre_-_Musee_du_
 Louvre_Peintures_INV_5356__MR_1849-scaled.jpg
CATEGORIES:Högtid
LOCATION:Rönnekyrkan\, Skolgatan 33\, Ängelholm\, Skåne\, 262 31\, Skån
 e\, Sverige
GEO:56.24508;12.872347
X-APPLE-STRUCTURED-LOCATION;VALUE=URI;X-ADDRESS=Skolgatan 33\, Ängelholm\,
  Skåne\, 262 31\, Skåne\, Sverige;X-APPLE-RADIUS=100;X-TITLE=Rönnekyrka
 n:geo:56.24508,12.872347
END:VEVENT
BEGIN:VTIMEZONE
TZID:Europe/Stockholm
X-LIC-LOCATION:Europe/Stockholm
BEGIN:DAYLIGHT
DTSTART:20260329T030000
TZOFFSETFROM:+0100
TZOFFSETTO:+0200
TZNAME:CEST
END:DAYLIGHT
END:VTIMEZONE
END:VCALENDAR