BEGIN:VCALENDAR
VERSION:2.0
PRODID:-//wp-events-plugin.com//7.2.3.1//EN
TZID:Europe/Stockholm
X-WR-TIMEZONE:Europe/Stockholm
BEGIN:VEVENT
UID:531@sanktbernadette.se
DTSTART;TZID=Europe/Stockholm:20260621T083000
DTEND;TZID=Europe/Stockholm:20260621T120000
DTSTAMP:20251126T075946Z
URL:https://sanktbernadette.se/kalender/massa-2026-01-04-2026-01-11-2026-0
 1-18-2026-01-25-2026-02-01-2026-02-08-2026-02-15-2026-02-22-2026-03-01-202
 6-03-08-2026-03-15-2026-03-22-2026-03-29-2026-04-05-2026-04-12-2026-04-19-
 2026-14-2026-06-21/
SUMMARY:Mässa
DESCRIPTION:Mässa 1 - 8:30\n\n&nbsp\;\n\nMässa 2 - 10:30
CATEGORIES:Högtid
LOCATION:Rönnekyrkan\, Skolgatan 33\, Ängelholm\, Skåne\, 262 31\, Skån
 e\, Sverige
GEO:56.24508;12.872347
X-APPLE-STRUCTURED-LOCATION;VALUE=URI;X-ADDRESS=Skolgatan 33\, Ängelholm\,
  Skåne\, 262 31\, Skåne\, Sverige;X-APPLE-RADIUS=100;X-TITLE=Rönnekyrka
 n:geo:56.24508,12.872347
END:VEVENT
BEGIN:VTIMEZONE
TZID:Europe/Stockholm
X-LIC-LOCATION:Europe/Stockholm
BEGIN:DAYLIGHT
DTSTART:20260329T030000
TZOFFSETFROM:+0100
TZOFFSETTO:+0200
TZNAME:CEST
END:DAYLIGHT
END:VTIMEZONE
END:VCALENDAR