BEGIN:VCALENDAR
VERSION:2.0
PRODID:-//wp-events-plugin.com//7.2.3.1//EN
TZID:Europe/Stockholm
X-WR-TIMEZONE:Europe/Stockholm
BEGIN:VEVENT
UID:313@sanktbernadette.se
DTSTART;TZID=Europe/Stockholm:20241201T083000
DTEND;TZID=Europe/Stockholm:20241201T120000
DTSTAMP:20241118T094023Z
URL:https://sanktbernadette.se/kalender/massa-1-2024-12-01/
SUMMARY:Mässa - FÖRSTA SÖNDAGEN I ADVENT
DESCRIPTION:Mässa 1 - start: 8:30\n\n&nbsp\;\n\nMässa 2 - start: 10:30\n\
 n&nbsp\;\n\nhttps://sanktbernadette.se/infor-kommande-sondags-massa-2024-1
 2-01/
ATTACH;FMTTYPE=image/jpeg:https://sanktbernadette.se/wp-content/uploads/20
 24/11/angels-announcing-the-birth-of-christ.jpg
CATEGORIES:Högtid
LOCATION:Rönnekyrkan\, Skolgatan 33\, Ängelholm\, Skåne\, 262 31\, Skån
 e\, Sverige
GEO:56.24508;12.872347
X-APPLE-STRUCTURED-LOCATION;VALUE=URI;X-ADDRESS=Skolgatan 33\, Ängelholm\,
  Skåne\, 262 31\, Skåne\, Sverige;X-APPLE-RADIUS=100;X-TITLE=Rönnekyrka
 n:geo:56.24508,12.872347
END:VEVENT
BEGIN:VTIMEZONE
TZID:Europe/Stockholm
X-LIC-LOCATION:Europe/Stockholm
BEGIN:STANDARD
DTSTART:20241027T020000
TZOFFSETFROM:+0200
TZOFFSETTO:+0100
TZNAME:CET
END:STANDARD
END:VTIMEZONE
END:VCALENDAR