BEGIN:VCALENDAR
VERSION:2.0
PRODID:-//wp-events-plugin.com//7.2.3.1//EN
TZID:Europe/Stockholm
X-WR-TIMEZONE:Europe/Stockholm
BEGIN:VEVENT
UID:138@sanktbernadette.se
DTSTART;TZID=Europe/Stockholm;VALUE=DATE:20230403
DTEND;TZID=Europe/Stockholm;VALUE=DATE:20230404
DTSTAMP:20230402T132122Z
URL:https://sanktbernadette.se/kalender/manaden-i-stilla-veckan/
SUMMARY:Måndagen i Stilla Veckan
DESCRIPTION:
CATEGORIES:Högtid
END:VEVENT
BEGIN:VTIMEZONE
TZID:Europe/Stockholm
X-LIC-LOCATION:Europe/Stockholm
BEGIN:DAYLIGHT
DTSTART:20230326T030000
TZOFFSETFROM:+0100
TZOFFSETTO:+0200
TZNAME:CEST
END:DAYLIGHT
END:VTIMEZONE
END:VCALENDAR